BEGIN:VCALENDAR
VERSION:2.0
PRODID:-//BCE - ECPv6.15.17.1//NONSGML v1.0//EN
CALSCALE:GREGORIAN
METHOD:PUBLISH
X-WR-CALNAME:BCE
X-ORIGINAL-URL:https://www.bce.lu
X-WR-CALDESC:Events for BCE
REFRESH-INTERVAL;VALUE=DURATION:PT1H
X-Robots-Tag:noindex
X-PUBLISHED-TTL:PT1H
BEGIN:VTIMEZONE
TZID:Europe/Paris
BEGIN:DAYLIGHT
TZOFFSETFROM:+0100
TZOFFSETTO:+0200
TZNAME:CEST
DTSTART:20220327T010000
END:DAYLIGHT
BEGIN:STANDARD
TZOFFSETFROM:+0200
TZOFFSETTO:+0100
TZNAME:CET
DTSTART:20221030T010000
END:STANDARD
BEGIN:DAYLIGHT
TZOFFSETFROM:+0100
TZOFFSETTO:+0200
TZNAME:CEST
DTSTART:20230326T010000
END:DAYLIGHT
BEGIN:STANDARD
TZOFFSETFROM:+0200
TZOFFSETTO:+0100
TZNAME:CET
DTSTART:20231029T010000
END:STANDARD
BEGIN:DAYLIGHT
TZOFFSETFROM:+0100
TZOFFSETTO:+0200
TZNAME:CEST
DTSTART:20240331T010000
END:DAYLIGHT
BEGIN:STANDARD
TZOFFSETFROM:+0200
TZOFFSETTO:+0100
TZNAME:CET
DTSTART:20241027T010000
END:STANDARD
BEGIN:DAYLIGHT
TZOFFSETFROM:+0100
TZOFFSETTO:+0200
TZNAME:CEST
DTSTART:20250330T010000
END:DAYLIGHT
BEGIN:STANDARD
TZOFFSETFROM:+0200
TZOFFSETTO:+0100
TZNAME:CET
DTSTART:20251026T010000
END:STANDARD
BEGIN:DAYLIGHT
TZOFFSETFROM:+0100
TZOFFSETTO:+0200
TZNAME:CEST
DTSTART:20260329T010000
END:DAYLIGHT
BEGIN:STANDARD
TZOFFSETFROM:+0200
TZOFFSETTO:+0100
TZNAME:CET
DTSTART:20261025T010000
END:STANDARD
END:VTIMEZONE
BEGIN:VEVENT
DTSTART;TZID=Europe/Paris:20251105T120000
DTEND;TZID=Europe/Paris:20251105T130000
DTSTAMP:20260423T150725
CREATED:20251023T145156Z
LAST-MODIFIED:20251023T151948Z
UID:10000042-1762344000-1762347600@www.bce.lu
SUMMARY:SATIS 2025 – Pierre Dereux’s conference on “Pooling of resources and cooperation between local channels.”
DESCRIPTION:Join Pierre Dereux\, Product Marketing Lead at BCE – Broadcasting Centre Europe\, at the conference ‘Resource sharing and cooperation between local channels’ on 5 November 2025\, from 12:00 to 1:00 p.m. at the SATIS trade show\, in the Thema 5 room. \nYou will discover how pooling technical and editorial resources can pave the way for new forms of cooperation between local channels that are more efficient\, supportive and innovative. \n  \n📍 You can also find BCE on 5 and 6 November at stand B25!\n🔗 Book your appointment here \n 
URL:https://www.bce.lu/event/satis-2025-pierre-dereuxs-conference-on-pooling-of-resources-and-cooperation-between-local-channels/
LOCATION:Satis 2025 – Conference Pierre Dereux\, - Room THEMA 5 - 87 Avenue des Magasins Généraux\, Aubervilliers\, 93300\, France
CATEGORIES:Conference
ATTACH;FMTTYPE=image/png:https://www.bce.lu/wp-content/uploads/2025/10/Pierre-Dereux-SATIS-conference-participation-1-1.png
END:VEVENT
BEGIN:VEVENT
DTSTART;TZID=Europe/Paris:20240605T090000
DTEND;TZID=Europe/Paris:20240605T100000
DTSTAMP:20260423T150725
CREATED:20240531T141002Z
LAST-MODIFIED:20240531T141002Z
UID:10000022-1717578000-1717581600@www.bce.lu
SUMMARY:FKTG 2024 - Andreas Fleuter "Hybrid Cloud Media Environment in Production" conference
DESCRIPTION:Andreas Fleuter\, Technical Managed Services Director at BCE\, is set to speak at the FKTG conference on Wednesday\, June 5th\, from 9:00 to 10:00. The discussion will focus on “Hybrid Cloud Media Environment in Production.” \nDuring this session\, Andreas will discuss the current trend of adapting content media services to non-media companies in the fashion\, sports\, and business sectors. In this environment\, media technology providers like BCE must adapt their models to a hybrid cloud-based product ecosystem\, ensuring flexibility and technological adaptation while maintaining high security level to meet specific customers’ needs.
URL:https://www.bce.lu/event/fktg-2024-andreas-fleuter-hybrid-cloud-media-environment-in-production-conference/
LOCATION:FKTG 2024\, Room: Themenblock Cloud\, IP - c/o J. Burghardt Locherhofer Str. 27\, Harbach\, 57572\, Germany
CATEGORIES:Conference
ATTACH;FMTTYPE=image/png:https://www.bce.lu/wp-content/uploads/2024/05/Andreas-FKTG-EN-v2.png
END:VEVENT
BEGIN:VEVENT
DTSTART;TZID=Europe/Paris:20231115T103000
DTEND;TZID=Europe/Paris:20231115T113000
DTSTAMP:20260423T150725
CREATED:20231113T164033Z
LAST-MODIFIED:20231113T164033Z
UID:10000014-1700044200-1700047800@www.bce.lu
SUMMARY:Conference SATIS with Xavier Hermès - Security and cloud: what are the solutions?
DESCRIPTION:Security and cloud: what are the solutions?\nMeet Xavier Hermès\, Security and Governance Manager at BCE\, during this conference taking place during Satis at Thema 2 area.\nFor one hour\, understand how at BCE\, we connect security to all of our products in the Cloud\, especially within the scope of our new Media-as-a-Service offering. As an expert\, Xavier Hermès will provide an overview of the important security points we consider at BCE when we implement Cloud solutions\, specifically in the media industry. \nInformation\n\n\nThe outsourcing of hardware infrastructure to cloud services and software tools raises issues of security and carbon footprint. Encryption\, sovereignty\, sustainability: what are the risks and solutions related to the cloud in the audiovisual industry?
URL:https://www.bce.lu/event/conference-satis-with-xavier-hermes-security-and-cloud-what-are-the-solutions/
LOCATION:Satis 2023 – conférence Xavier Hermès\, THEMA 2 - 87 Avenue des Magasins Généraux\, Aubervilliers\, 93300\, France
CATEGORIES:Conference
ATTACH;FMTTYPE=image/png:https://www.bce.lu/wp-content/uploads/2023/11/Talk-Xavier-Hermes-BCE-EN.png
END:VEVENT
END:VCALENDAR