BEGIN:VCALENDAR
VERSION:2.0
PRODID:-//BCE - ECPv6.15.17.1//NONSGML v1.0//EN
CALSCALE:GREGORIAN
METHOD:PUBLISH
X-ORIGINAL-URL:https://www.bce.lu
X-WR-CALDESC:Events for BCE
REFRESH-INTERVAL;VALUE=DURATION:PT1H
X-Robots-Tag:noindex
X-PUBLISHED-TTL:PT1H
BEGIN:VTIMEZONE
TZID:Europe/Paris
BEGIN:DAYLIGHT
TZOFFSETFROM:+0100
TZOFFSETTO:+0200
TZNAME:CEST
DTSTART:20250330T010000
END:DAYLIGHT
BEGIN:STANDARD
TZOFFSETFROM:+0200
TZOFFSETTO:+0100
TZNAME:CET
DTSTART:20251026T010000
END:STANDARD
BEGIN:DAYLIGHT
TZOFFSETFROM:+0100
TZOFFSETTO:+0200
TZNAME:CEST
DTSTART:20260329T010000
END:DAYLIGHT
BEGIN:STANDARD
TZOFFSETFROM:+0200
TZOFFSETTO:+0100
TZNAME:CET
DTSTART:20261025T010000
END:STANDARD
BEGIN:DAYLIGHT
TZOFFSETFROM:+0100
TZOFFSETTO:+0200
TZNAME:CEST
DTSTART:20270328T010000
END:DAYLIGHT
BEGIN:STANDARD
TZOFFSETFROM:+0200
TZOFFSETTO:+0100
TZNAME:CET
DTSTART:20271031T010000
END:STANDARD
END:VTIMEZONE
BEGIN:VTIMEZONE
TZID:Europe/Amsterdam
BEGIN:DAYLIGHT
TZOFFSETFROM:+0100
TZOFFSETTO:+0200
TZNAME:CEST
DTSTART:20250330T010000
END:DAYLIGHT
BEGIN:STANDARD
TZOFFSETFROM:+0200
TZOFFSETTO:+0100
TZNAME:CET
DTSTART:20251026T010000
END:STANDARD
BEGIN:DAYLIGHT
TZOFFSETFROM:+0100
TZOFFSETTO:+0200
TZNAME:CEST
DTSTART:20260329T010000
END:DAYLIGHT
BEGIN:STANDARD
TZOFFSETFROM:+0200
TZOFFSETTO:+0100
TZNAME:CET
DTSTART:20261025T010000
END:STANDARD
BEGIN:DAYLIGHT
TZOFFSETFROM:+0100
TZOFFSETTO:+0200
TZNAME:CEST
DTSTART:20270328T010000
END:DAYLIGHT
BEGIN:STANDARD
TZOFFSETFROM:+0200
TZOFFSETTO:+0100
TZNAME:CET
DTSTART:20271031T010000
END:STANDARD
END:VTIMEZONE
BEGIN:VEVENT
DTSTART;VALUE=DATE:20260114
DTEND;VALUE=DATE:20260116
DTSTAMP:20260420T094925
CREATED:20250328T162003Z
LAST-MODIFIED:20251121T152628Z
UID:10000033-1768348800-1768521599@www.bce.lu
SUMMARY:Hamburg Open 2026 - Meet BCE at Hall B6\, Stand 415
DESCRIPTION:Meet BCE at Hamburg Open 2026 in Germany!\n📍 Hall B6\, Stand 415 \nHamburg Open is a German trade show dedicated to innovation for the broadcast industry. \n\n\n\n\n\n\n\n\n\n\n\n\nAt BCE\, our expertise is our strength. Discover how we support your integration projects\, manage the production and distribution of your events\, and offer managed services\, including traditional channel distribution\, archiving\, DMO\, and much more. \nOur motto? Simplify your workflow\, from management to content distribution\, offering ever more flexible and efficient solutions for media\, sports\, fashion\, and corporate sectors. \n\n\n\n\n\n\n\n\n\n🔎 To discover this year: Media-as-a-Service!\n\n\n\n\n\n\n\n\n\nMedia-as-a-Service enables you to quickly gain clarity and control of your media services by choosing from a range of apps on a fast\, simple\, and secure online platform: \n✅ Holovox – The reference for remote commentary from anywhere in the world.✅ Freecaster – A complete platform to manage\, enhance\, and broadcast your events.✅ Playit – An agile and optimized cloud playout solution for your TV channels.✅ NxP – The app to easily manage\, share\, and distribute content within a community of members. \n\n\n\n\n\n\n\n\n\n\n\n\n\n\n\n\n\n\n\n\n\n\n\n\n\n\n\n\nSeize the opportunity to discover the future of media innovation with BCE at Hamburg Open 2026.\n  \n\nInterested in our products and services ?\nContact us using the following form for more information or schedule an in-person meeting at Hambourg Open!
URL:https://www.bce.lu/event/hamburg-open-2026-meet-bce-at-hall-b6-stand-415/
LOCATION:Hamburg Open\, Messepl. 1\, Hamburg\, 20357\, Germany
CATEGORIES:Exhibition
ATTACH;FMTTYPE=image/png:https://www.bce.lu/wp-content/uploads/2025/03/BCE-HAMBOURG-OPEN-2026-EN-V2.png
END:VEVENT
BEGIN:VEVENT
DTSTART;VALUE=DATE:20260911
DTEND;VALUE=DATE:20260915
DTSTAMP:20260420T094925
CREATED:20260327T162052Z
LAST-MODIFIED:20260327T170334Z
UID:10000049-1789084800-1789430399@www.bce.lu
SUMMARY:IBC 2026 - Meet BCE at Hall 1\, Stand C16
DESCRIPTION:Meet BCE at IBC 2026!\n📍 Hall 1\, Stand C16\nSchedule a meeting\n \n  \nAt BCE we design\, integrate and operate end-to-end broadcast and media workflows\, helping more than 400 organizations create\, manage and distribute content with reliability\, security and at scale. \n  \nHow we deliver:\n\nHosting and Network Infrastructure: EU sovereign hosting\, networks\, cloud and connectivity\nSystem Integration: end-to-end design and integration across broadcast and digital ecosystems\nProducts and Platforms: ready-to-use applications and platform capabilities to scale operations\nManaged Services: 24/7 operations\, support and monitoring with clear accountability\n\n  \nWhere we create value:\n\nLive operations & production: Making live predictable.\nLinear channels & broadcast operations: Keeping channels on air\, whatever happens.\nContribution\, distribution & delivery: Bringing your streams and assets to the right place.\nMedia management\, storage & archive: Knowing where your assets are and being able to reuse them.\nContent supply chain: Content preparation\, enrichment\, subtitling & delivery\n\n  \nWho we serve:\n\nBroadcast (TV and Radio): Mission-critical broadcast operations – on air\, on time\, always.\nSports Rightsholders and Leagues: Turn content into reach\, revenue and reuse – at scale.\nNews and Publishers : From newsroom to screens\, faster and safer.\nBrands and Retail: Scale brand video operations without scaling complexity.\nCorporate\, Education and Institutions: Secure media workflows for communication and knowledge.\n\n  \n🎬 Demonstrations\, discussions\, and innovations: come meet our experts and explore BCE solutions!\n  \nInterested in our products and services ?\nContact us using the following form for more information or schedule an in-person meeting at the IBC !
URL:https://www.bce.lu/event/ibc-2026-bce-stand-1c16/
LOCATION:IBC\, Hall 1\, Stand C16 - RAI\, Amsterdam\, 1078\, Netherlands
CATEGORIES:Exhibition
ATTACH;FMTTYPE=image/png:https://www.bce.lu/wp-content/uploads/2026/03/BCE-IBC-2026-EN-2.png
END:VEVENT
BEGIN:VEVENT
DTSTART;VALUE=DATE:20261104
DTEND;VALUE=DATE:20261106
DTSTAMP:20260420T094925
CREATED:20260330T144056Z
LAST-MODIFIED:20260330T144056Z
UID:10000053-1793750400-1793923199@www.bce.lu
SUMMARY:Meet BCE at Satis 2026
DESCRIPTION:Meet BCE at Satis 2026!\n  \nMore information coming soon\n  \nConnect with BCE at Satis\nContact us using the following form for more information or schedule an in-person meeting at the Satis!
URL:https://www.bce.lu/event/meet-bce-at-satis-2026/
LOCATION:Satis\, Dock Pullman - 87 Avenue des Magasins Généraux\, Aubervilliers\, 93300\, France
CATEGORIES:Exhibition
ATTACH;FMTTYPE=image/png:https://www.bce.lu/wp-content/uploads/2026/03/BCE-SATIS-2026-EN.png
END:VEVENT
END:VCALENDAR